BEGIN:VCALENDAR
VERSION:2.0
PRODID:-//Blackhawk Soccer - ECPv6.15.19//NONSGML v1.0//EN
CALSCALE:GREGORIAN
METHOD:PUBLISH
X-WR-CALNAME:Blackhawk Soccer
X-ORIGINAL-URL:https://blackhawksoccer.org
X-WR-CALDESC:Events for Blackhawk Soccer
REFRESH-INTERVAL;VALUE=DURATION:PT1H
X-Robots-Tag:noindex
X-PUBLISHED-TTL:PT1H
BEGIN:VTIMEZONE
TZID:America/Chicago
BEGIN:DAYLIGHT
TZOFFSETFROM:-0600
TZOFFSETTO:-0500
TZNAME:CDT
DTSTART:20210314T080000
END:DAYLIGHT
BEGIN:STANDARD
TZOFFSETFROM:-0500
TZOFFSETTO:-0600
TZNAME:CST
DTSTART:20211107T070000
END:STANDARD
BEGIN:DAYLIGHT
TZOFFSETFROM:-0600
TZOFFSETTO:-0500
TZNAME:CDT
DTSTART:20220313T080000
END:DAYLIGHT
BEGIN:STANDARD
TZOFFSETFROM:-0500
TZOFFSETTO:-0600
TZNAME:CST
DTSTART:20221106T070000
END:STANDARD
BEGIN:DAYLIGHT
TZOFFSETFROM:-0600
TZOFFSETTO:-0500
TZNAME:CDT
DTSTART:20230312T080000
END:DAYLIGHT
BEGIN:STANDARD
TZOFFSETFROM:-0500
TZOFFSETTO:-0600
TZNAME:CST
DTSTART:20231105T070000
END:STANDARD
END:VTIMEZONE
BEGIN:VTIMEZONE
TZID:UTC
BEGIN:STANDARD
TZOFFSETFROM:+0000
TZOFFSETTO:+0000
TZNAME:UTC
DTSTART:20200101T000000
END:STANDARD
END:VTIMEZONE
BEGIN:VEVENT
DTSTART;TZID=America/Chicago:20220123T190000
DTEND;TZID=America/Chicago:20220123T210000
DTSTAMP:20260425T164124
CREATED:20220114T162941Z
LAST-MODIFIED:20220114T162941Z
UID:10000063-1642964400-1642971600@blackhawksoccer.org
SUMMARY:Blackhawks Board of Directors Meeting
DESCRIPTION:Monthly Board of Directors meeting.\nOpen to all members to attend. Contact event organizer for details.
URL:https://blackhawksoccer.org/event/blackhawks-board-of-directors-meeting/
CATEGORIES:Board Meeting
ORGANIZER;CN="Heidi Wisner Staloch":MAILTO:heidi@blackhawksoccer.org
END:VEVENT
BEGIN:VEVENT
DTSTART;TZID=UTC:20211120T090000
DTEND;TZID=UTC:20211120T110000
DTSTAMP:20260425T164124
CREATED:20210701T015932Z
LAST-MODIFIED:20210701T020007Z
UID:10000060-1637398800-1637406000@blackhawksoccer.org
SUMMARY:Town Hall and Annual General Meeting @ To Be Determined
DESCRIPTION:Please join us for our Town Hall and Annual General Meeting. Held each November and targeted for adults rather than players. All Blackhawks members* are voting members at this meeting. We encourage all members to attend and participate. \n* The parent or guardian of each player on a Blackhawks league team (U9 – U19) or Little Hawks leagues in the preceding twelve (12) months is a voting member. We will email details to members email address of record. \nOur agenda typically includes: \n\nWelcome\, Mission\, and Opening Remarks\nRecognition of Volunteers\nBoard Elections\nTreasurer Report—presentation and approval of budget\nState of Soccer in MN\nLooking Ahead\nQ&A
URL:https://blackhawksoccer.org/event/town-hall-and-annual-general-meeting-to-be-determined/
ATTACH;FMTTYPE=image/png:https://blackhawksoccer.org/wp-content/uploads/2021/06/hands-up-graphic.png
END:VEVENT
BEGIN:VEVENT
DTSTART;TZID=UTC:20211017T190000
DTEND;TZID=UTC:20211017T210000
DTSTAMP:20260425T164124
CREATED:20210701T015708Z
LAST-MODIFIED:20210701T015714Z
UID:10000059-1634497200-1634504400@blackhawksoccer.org
SUMMARY:Board Meeting @ Virtual meeting
DESCRIPTION:Board Meetings are open to Blackhawks members. Contact the organizer for virtual meeting participation details.
URL:https://blackhawksoccer.org/event/board-meeting-virtual-meeting-4/
END:VEVENT
BEGIN:VEVENT
DTSTART;TZID=UTC:20210919T190000
DTEND;TZID=UTC:20210919T210000
DTSTAMP:20260425T164124
CREATED:20210701T015403Z
LAST-MODIFIED:20210701T015403Z
UID:10000058-1632078000-1632085200@blackhawksoccer.org
SUMMARY:Board Meeting @ Virtual meeting
DESCRIPTION:Board Meetings are open to Blackhawks members. Contact the organizer for virtual meeting participation details.
URL:https://blackhawksoccer.org/event/board-meeting-virtual-meeting-3/
END:VEVENT
BEGIN:VEVENT
DTSTART;TZID=UTC:20210815T190000
DTEND;TZID=UTC:20210815T210000
DTSTAMP:20260425T164124
CREATED:20210701T015113Z
LAST-MODIFIED:20210701T015510Z
UID:10000057-1629054000-1629061200@blackhawksoccer.org
SUMMARY:Board Meeting @ Virtual meeting
DESCRIPTION:Board Meetings are open to Blackhawks members. Contact the organizer for virtual meeting participation details.
URL:https://blackhawksoccer.org/event/board-meeting-virtual-meeting-2/
END:VEVENT
BEGIN:VEVENT
DTSTART;VALUE=DATE:20210725
DTEND;VALUE=DATE:20210730
DTSTAMP:20260425T164124
CREATED:20210630T211945Z
LAST-MODIFIED:20210715T004853Z
UID:10000056-1627171200-1627603199@blackhawksoccer.org
SUMMARY:Tryouts
DESCRIPTION:
URL:https://blackhawksoccer.org/event/tryouts/
ATTACH;FMTTYPE=image/jpeg:https://blackhawksoccer.org/wp-content/uploads/2021/05/halgatewood-com-AzDHa9F9uBY-unsplash.jpg
END:VEVENT
BEGIN:VEVENT
DTSTART;TZID=UTC:20210723T180000
DTEND;TZID=UTC:20210723T220000
DTSTAMP:20260425T164124
CREATED:20210630T211852Z
LAST-MODIFIED:20210715T004752Z
UID:10000055-1627063200-1627077600@blackhawksoccer.org
SUMMARY:BASH @ Allianz Field: Brew Hall
DESCRIPTION:
URL:https://blackhawksoccer.org/event/bash-allianz-field-brew-hall/
END:VEVENT
BEGIN:VEVENT
DTSTART;TZID=UTC:20210718T190000
DTEND;TZID=UTC:20210718T210000
DTSTAMP:20260425T164124
CREATED:20210630T211725Z
LAST-MODIFIED:20210715T003448Z
UID:10000054-1626634800-1626642000@blackhawksoccer.org
SUMMARY:Board Meeting @ Virtual meeting
DESCRIPTION:Board Meetings are open to Blackhawks members. Contact the organizer for virtual meeting participation details.
URL:https://blackhawksoccer.org/event/board-meeting-virtual-meeting/
END:VEVENT
END:VCALENDAR